BEGIN:VCALENDAR
VERSION:2.0
PRODID:-//Juntos por la Inclusión - ECPv6.14.2//NONSGML v1.0//EN
CALSCALE:GREGORIAN
METHOD:PUBLISH
X-WR-CALNAME:Juntos por la Inclusión
X-ORIGINAL-URL:https://www.antiguo.juntosporlainclusion.org
X-WR-CALDESC:Eventos para Juntos por la Inclusión
REFRESH-INTERVAL;VALUE=DURATION:PT1H
X-Robots-Tag:noindex
X-PUBLISHED-TTL:PT1H
BEGIN:VTIMEZONE
TZID:America/Bogota
BEGIN:STANDARD
TZOFFSETFROM:-0500
TZOFFSETTO:-0500
TZNAME:-05
DTSTART:20230101T000000
END:STANDARD
END:VTIMEZONE
BEGIN:VEVENT
DTSTART;TZID=America/Bogota:20241204T080000
DTEND;TZID=America/Bogota:20241204T120000
DTSTAMP:20260419T135554
CREATED:20241021T135752Z
LAST-MODIFIED:20241021T135752Z
UID:5596-1733299200-1733313600@www.antiguo.juntosporlainclusion.org
SUMMARY:Evento de cierre Medellín - Juntos por la Inclusión
DESCRIPTION:
URL:https://www.antiguo.juntosporlainclusion.org/eventos/evento-de-cierre-medellin-juntos-por-la-inclusion/
END:VEVENT
BEGIN:VEVENT
DTSTART;TZID=America/Bogota:20241129T080000
DTEND;TZID=America/Bogota:20241129T120000
DTSTAMP:20260419T135554
CREATED:20241021T135609Z
LAST-MODIFIED:20241021T135656Z
UID:5593-1732867200-1732881600@www.antiguo.juntosporlainclusion.org
SUMMARY:Evento de cierre Oriente - Juntos por la Inclusión
DESCRIPTION:
URL:https://www.antiguo.juntosporlainclusion.org/eventos/evento-de-cierre-oriente-juntos-por-la-inclusion/
END:VEVENT
BEGIN:VEVENT
DTSTART;TZID=America/Bogota:20241127T080000
DTEND;TZID=America/Bogota:20241127T120000
DTSTAMP:20260419T135554
CREATED:20241021T135129Z
LAST-MODIFIED:20241021T135129Z
UID:5589-1732694400-1732708800@www.antiguo.juntosporlainclusion.org
SUMMARY:Evento de cierre Caldas - Juntos por la Inclusión
DESCRIPTION:
URL:https://www.antiguo.juntosporlainclusion.org/eventos/evento-de-cierre-caldas-juntos-por-la-inclusion/
END:VEVENT
BEGIN:VEVENT
DTSTART;TZID=America/Bogota:20241126T080000
DTEND;TZID=America/Bogota:20241126T120000
DTSTAMP:20260419T135554
CREATED:20241021T135011Z
LAST-MODIFIED:20241021T135011Z
UID:5587-1732608000-1732622400@www.antiguo.juntosporlainclusion.org
SUMMARY:Evento de cierre Quindío - Juntos por la inclusión
DESCRIPTION:
URL:https://www.antiguo.juntosporlainclusion.org/eventos/evento-de-cierre-quindio-juntos-por-la-inclusion/
END:VEVENT
BEGIN:VEVENT
DTSTART;TZID=America/Bogota:20241121T080000
DTEND;TZID=America/Bogota:20241121T120000
DTSTAMP:20260419T135554
CREATED:20241021T134839Z
LAST-MODIFIED:20241021T134839Z
UID:5585-1732176000-1732190400@www.antiguo.juntosporlainclusion.org
SUMMARY:3er encuentro por la inclusión - Juntos por la Inclusión
DESCRIPTION:
URL:https://www.antiguo.juntosporlainclusion.org/eventos/3er-encuentro-por-la-inclusion-juntos-por-la-inclusion/
END:VEVENT
BEGIN:VEVENT
DTSTART;TZID=America/Bogota:20241113T080000
DTEND;TZID=America/Bogota:20241113T120000
DTSTAMP:20260419T135554
CREATED:20241021T135313Z
LAST-MODIFIED:20241022T131425Z
UID:5591-1731484800-1731499200@www.antiguo.juntosporlainclusion.org
SUMMARY:Evento de cierre Pereira - Juntos por la Inclusión
DESCRIPTION:
URL:https://www.antiguo.juntosporlainclusion.org/eventos/evento-de-cierre-pereira-juntos-por-la-inclusion/
END:VEVENT
BEGIN:VEVENT
DTSTART;TZID=America/Bogota:20241107T073000
DTEND;TZID=America/Bogota:20241107T123000
DTSTAMP:20260419T135554
CREATED:20241021T140852Z
LAST-MODIFIED:20241021T141241Z
UID:5598-1730964600-1730982600@www.antiguo.juntosporlainclusion.org
SUMMARY:Foro de Movilidad Humana
DESCRIPTION:Diálogos y reflexiones sobre:  \n\n\n\nSituación actual de refugiados y migrantes en Colombia\nNómadas digitales\nFlujos migratorios en la subregión de Urabá\nMovilidad humana y el talento humano \n\n\n\nJueves 7 de noviembre \n7:30 a.m. a 12:30 p. m. \nUniversidad EAFIT\, bloque 38 – Auditorio 101. Carrera 49 # 7 Sur 50. El Poblado\, Medellín.
URL:https://www.antiguo.juntosporlainclusion.org/eventos/foro-de-movilidad-humana/
LOCATION:Universidad EAFIT\, Universidad EAFIT\, Carrera 49 # 7 Sur 50. El Poblado\, Medellín.\, Medellín\, Colombia
END:VEVENT
BEGIN:VEVENT
DTSTART;TZID=America/Bogota:20241029T090000
DTEND;TZID=America/Bogota:20241029T140000
DTSTAMP:20260419T135554
CREATED:20241021T134602Z
LAST-MODIFIED:20241021T134602Z
UID:5583-1730192400-1730210400@www.antiguo.juntosporlainclusion.org
SUMMARY:Feria de Empleo Rionegro - Juntos por la Inclusión
DESCRIPTION:
URL:https://www.antiguo.juntosporlainclusion.org/eventos/feria-de-empleo-rionegro-juntos-por-la-inclusion/
END:VEVENT
BEGIN:VEVENT
DTSTART;TZID=America/Bogota:20241025T080000
DTEND;TZID=America/Bogota:20241025T170000
DTSTAMP:20260419T135554
CREATED:20241021T134000Z
LAST-MODIFIED:20241021T134000Z
UID:5580-1729843200-1729875600@www.antiguo.juntosporlainclusion.org
SUMMARY:Encuentro de empresarios - Juntos por la Inclusión
DESCRIPTION:
URL:https://www.antiguo.juntosporlainclusion.org/eventos/encuentro-de-empresarios-juntos-por-la-inclusion/
LOCATION:Parque Biblioteca Belén\, Cra. 76 #18a-19\, Medellín\, Belén\, Medellín\, Antioquia\, Colombia
END:VEVENT
BEGIN:VEVENT
DTSTART;TZID=America/Bogota:20241024T080000
DTEND;TZID=America/Bogota:20241024T160000
DTSTAMP:20260419T135554
CREATED:20241021T133644Z
LAST-MODIFIED:20241021T133644Z
UID:5578-1729756800-1729785600@www.antiguo.juntosporlainclusion.org
SUMMARY:Encuentro de Emprendedores Santa Rosa de Osos - Territorios de Inclusión
DESCRIPTION:
URL:https://www.antiguo.juntosporlainclusion.org/eventos/encuentro-de-emprendedores-santa-rosa-de-osos-territorios-de-inclusion/
END:VEVENT
BEGIN:VEVENT
DTSTART;TZID=America/Bogota:20241022T160000
DTEND;TZID=America/Bogota:20241022T180000
DTSTAMP:20260419T135554
CREATED:20241021T133309Z
LAST-MODIFIED:20241021T133309Z
UID:5575-1729612800-1729620000@www.antiguo.juntosporlainclusion.org
SUMMARY:Ciclo de cine en el albergue - Juntos por la inclusión
DESCRIPTION:
URL:https://www.antiguo.juntosporlainclusion.org/eventos/ciclo-de-cine-en-el-albergue-juntos-por-la-inclusion/
LOCATION:Albergue Ser Feliz\, carrera 47 # 63 – 36\, Prado Centro – Medellin\, Carrera 47 # 63 - 36\, Prado Centro - Medellín
END:VEVENT
BEGIN:VEVENT
DTSTART;TZID=America/Bogota:20241022T080000
DTEND;TZID=America/Bogota:20241022T150000
DTSTAMP:20260419T135554
CREATED:20241021T132554Z
LAST-MODIFIED:20241021T132554Z
UID:5571-1729584000-1729609200@www.antiguo.juntosporlainclusion.org
SUMMARY:Jornada de servicios Sabaneta\, Juntos por la Inclusión
DESCRIPTION:
URL:https://www.antiguo.juntosporlainclusion.org/eventos/jornada-de-servicios-sabaneta-juntos-por-la-inclusion/
END:VEVENT
BEGIN:VEVENT
DTSTART;TZID=America/Bogota:20240904T073000
DTEND;TZID=America/Bogota:20240904T103000
DTSTAMP:20260419T135554
CREATED:20240813T223201Z
LAST-MODIFIED:20240816T223727Z
UID:5559-1725435000-1725445800@www.antiguo.juntosporlainclusion.org
SUMMARY:Pereira ¡Conoce Juntos por la inclusión!
DESCRIPTION:💚 Desde la estrategia Juntos por la Inclusión de Comfenalco Antioquia y la Agencia de la ONU para los refugiados ACNUR\,  te invitamos a participar de este encuentro en el que\, además de conocer nuestra estrategia\, podrás aprender más sobre:\n\n-Protección Internacional- dirigido por ACNUR\n-Socialización Línea Inclusión financiera de la estrategia Juntos por la Inclusión\n-Programa «Empleo para la Vida» Dirigido por el Ministerio de Trabajo\n-Fortalecimiento Empresarial\, dirigido por el SENA\n\n¡Regístrate ahora! 👇🏻\nhttps://forms.office.com/r/wuyk2ym1jz
URL:https://www.antiguo.juntosporlainclusion.org/eventos/pereira-conoce-juntos-por-la-inclusion/
LOCATION:Sede Administrativa Comfamiliar Risaralda\, Av. Circunvalar #3-01\, Pereira\, Risaralda\, Colombia
ATTACH;FMTTYPE=image/jpeg:https://www.antiguo.juntosporlainclusion.org/wp-content/uploads/2024/08/E-Card-Desayuno-Empresarial-Pereira-Acnur-2024-scaled.jpg
END:VEVENT
BEGIN:VEVENT
DTSTART;TZID=America/Bogota:20240816T140000
DTEND;TZID=America/Bogota:20240816T170000
DTSTAMP:20260419T135554
CREATED:20240808T204535Z
LAST-MODIFIED:20240808T204603Z
UID:5528-1723816800-1723827600@www.antiguo.juntosporlainclusion.org
SUMMARY:Evento de bienvenida. Grupo de formación Atención al cliente – Rionegro
DESCRIPTION:
URL:https://www.antiguo.juntosporlainclusion.org/eventos/evento-de-bienvenida-grupo-de-formacion-atencion-al-cliente-rionegro/
LOCATION:Sede Comfenalco Antioquia Rionegro\, Carrera 51 # 50-55\, Rionegro\, Colombia
ATTACH;FMTTYPE=image/png:https://www.antiguo.juntosporlainclusion.org/wp-content/uploads/2024/08/AtencionCliente.png
END:VEVENT
BEGIN:VEVENT
DTSTART;TZID=America/Bogota:20240816T090000
DTEND;TZID=America/Bogota:20240816T120000
DTSTAMP:20260419T135554
CREATED:20240808T204158Z
LAST-MODIFIED:20240808T204412Z
UID:5525-1723798800-1723809600@www.antiguo.juntosporlainclusion.org
SUMMARY:Evento de bienvenida. Grupo de formación Manipulación de alimentos - Rionegro
DESCRIPTION:
URL:https://www.antiguo.juntosporlainclusion.org/eventos/evento-de-bienvenida-grupo-de-formacion-manipulacion-de-alimentos-rionegro/
LOCATION:Sede Comfenalco Antioquia Rionegro\, Carrera 51 # 50-55\, Rionegro\, Colombia
ATTACH;FMTTYPE=image/png:https://www.antiguo.juntosporlainclusion.org/wp-content/uploads/2024/08/Alimentos.png
END:VEVENT
BEGIN:VEVENT
DTSTART;TZID=America/Bogota:20240815T140000
DTEND;TZID=America/Bogota:20240815T163000
DTSTAMP:20260419T135554
CREATED:20240805T223729Z
LAST-MODIFIED:20240816T223911Z
UID:5563-1723730400-1723739400@www.antiguo.juntosporlainclusion.org
SUMMARY:Evento de bienvenida - Manipulación Alimentos Medellín
DESCRIPTION:
URL:https://www.antiguo.juntosporlainclusion.org/eventos/evento-de-bienvenida-manipulacion-alimentos-medellin/
ATTACH;FMTTYPE=image/png:https://www.antiguo.juntosporlainclusion.org/wp-content/uploads/2024/08/Manipulacion-Alimentos.png
END:VEVENT
BEGIN:VEVENT
DTSTART;TZID=America/Bogota:20240815T090000
DTEND;TZID=America/Bogota:20240815T120000
DTSTAMP:20260419T135554
CREATED:20240805T224038Z
LAST-MODIFIED:20240816T224134Z
UID:5566-1723712400-1723723200@www.antiguo.juntosporlainclusion.org
SUMMARY:Evento de bienvenida – Atención al cliente Medellín
DESCRIPTION:
URL:https://www.antiguo.juntosporlainclusion.org/eventos/evento-de-bienvenida-atencion-al-cliente-medellin/
ATTACH;FMTTYPE=image/png:https://www.antiguo.juntosporlainclusion.org/wp-content/uploads/2024/08/Atencion-al-cliente.png
END:VEVENT
BEGIN:VEVENT
DTSTART;TZID=America/Bogota:20240812T090000
DTEND;TZID=America/Bogota:20240812T120000
DTSTAMP:20260419T135554
CREATED:20240808T204729Z
LAST-MODIFIED:20240808T204730Z
UID:5531-1723453200-1723464000@www.antiguo.juntosporlainclusion.org
SUMMARY:Evento de bienvenida. Grupo de fortalecimiento empresarial – Rionegro
DESCRIPTION:
URL:https://www.antiguo.juntosporlainclusion.org/eventos/evento-de-bienvenida-grupo-de-fortalecimiento-empresarial-rionegro/
LOCATION:Sede Comfenalco Antioquia Rionegro\, Carrera 51 # 50-55\, Rionegro\, Colombia
ATTACH;FMTTYPE=image/png:https://www.antiguo.juntosporlainclusion.org/wp-content/uploads/2024/08/Emprendimientos.png
END:VEVENT
BEGIN:VEVENT
DTSTART;TZID=America/Bogota:20240802T090000
DTEND;TZID=America/Bogota:20240802T120000
DTSTAMP:20260419T135554
CREATED:20240718T154153Z
LAST-MODIFIED:20240718T154430Z
UID:5489-1722589200-1722600000@www.antiguo.juntosporlainclusion.org
SUMMARY:Evento de bienvenida - Grupo de fortalecimiento empresarial
DESCRIPTION:
URL:https://www.antiguo.juntosporlainclusion.org/eventos/evento-de-bienvenida-grupo-de-fortalecimiento-empresarial/
LOCATION:Sede Educativa Girardot\, Carrera 43 # 49-20\, Medellín\, Antioquia\, Colombia
ATTACH;FMTTYPE=image/png:https://www.antiguo.juntosporlainclusion.org/wp-content/uploads/2024/07/BienvEmp.png
END:VEVENT
BEGIN:VEVENT
DTSTART;TZID=America/Bogota:20240801T093000
DTEND;TZID=America/Bogota:20240801T153000
DTSTAMP:20260419T135554
CREATED:20240722T192302Z
LAST-MODIFIED:20240725T223321Z
UID:5494-1722504600-1722526200@www.antiguo.juntosporlainclusion.org
SUMMARY:Jornada de empleo "Mujeres al volante"
DESCRIPTION:¡Prepárate para hacer parte de la primer flota integrada por mujeres del Grupo Movalto! \nDesde ‘Juntos por la inclusión’\, estrategia de Comfenalco Antioquia y ACNUR\, te invitamos a la jornada de empleo «Mujeres al volante»\, una inicativa en la que podrás desempeñarte como cunductora. Recuerda\, debes estar regularizada\, tener habilidades para la conducción y asistir con la mejor actitud. \nSi no cuentas con licencia de conducción\, no te preocupes\, podrás acceder a ella sin costo. \n¡Prográmate para acompañarnos y conocer toda la información! \n📅 Jueves 1 de agosto\n🕥 9:30 a.m. a 3:30 p.m.\n📍 Biblioteca Pública Centro Occidental. Calle 39D # 112-81.\nBarrio El Salado – San Javier
URL:https://www.antiguo.juntosporlainclusion.org/eventos/jornada-de-empleo-mujeres-al-volante/
LOCATION:Biblioteca Pública Comfenalco Centro Occidental\, Calle 39D # 112-81\, Medellín\, Antioquia\, Colombia
ATTACH;FMTTYPE=image/png:https://www.antiguo.juntosporlainclusion.org/wp-content/uploads/2024/07/E-Card-Mujeres-Movalto-1.png
END:VEVENT
BEGIN:VEVENT
DTSTART;TZID=America/Bogota:20240801T080000
DTEND;TZID=America/Bogota:20240801T150000
DTSTAMP:20260419T135554
CREATED:20240729T213433Z
LAST-MODIFIED:20240729T213502Z
UID:5508-1722499200-1722524400@www.antiguo.juntosporlainclusion.org
SUMMARY:Jornada de empleabilidad - Dosquebradas
DESCRIPTION:💚 Desde Comfamiliar Risaralda y ‘Juntos por la inclusión’\, estrategia de Comfenalco Antioquia y ACNUR\, te invitamos a esta convocatoria de empleo en Dosquebradas\, Risaralda. \n🤩 Asiste con tu hoja de vida y la mejor actitud. \n¡Prográmate para acompañarnos y conocer toda la información! \n📅 Jueves 1 de agosto\n🕥 8:00 a.m. a 3:30 p.m. (jornada continua)\n📍 Centro Integral de Servicios. Comfamiliar Risaralda.\nAvenida Simón Bolívar # 35-01
URL:https://www.antiguo.juntosporlainclusion.org/eventos/jornada-de-empleabilidad-dosquebradas/
ATTACH;FMTTYPE=image/png:https://www.antiguo.juntosporlainclusion.org/wp-content/uploads/2024/07/Jornada-empleo-Pereira.png
END:VEVENT
BEGIN:VEVENT
DTSTART;TZID=America/Bogota:20240724T090000
DTEND;TZID=America/Bogota:20240724T150000
DTSTAMP:20260419T135554
CREATED:20240718T153720Z
LAST-MODIFIED:20240718T153720Z
UID:5484-1721811600-1721833200@www.antiguo.juntosporlainclusion.org
SUMMARY:Jornada de empleo para Uniflor
DESCRIPTION:
URL:https://www.antiguo.juntosporlainclusion.org/eventos/jornada-de-empleo-para-uniflor/
LOCATION:Agencia de Empleo Rionegro\, Calle 50 # 50-22\, Rionegro\, Antioquia\, Colombia
ATTACH;FMTTYPE=image/png:https://www.antiguo.juntosporlainclusion.org/wp-content/uploads/2024/07/Jornada-Uniflor.png
END:VEVENT
BEGIN:VEVENT
DTSTART;TZID=America/Bogota:20240712T093000
DTEND;TZID=America/Bogota:20240712T150000
DTSTAMP:20260419T135554
CREATED:20240708T153804Z
LAST-MODIFIED:20240708T153804Z
UID:5463-1720776600-1720796400@www.antiguo.juntosporlainclusion.org
SUMMARY:Feria de inclusión financiera
DESCRIPTION:
URL:https://www.antiguo.juntosporlainclusion.org/eventos/feria-de-inclusion-financiera/
LOCATION:Centro de Desarrollo Social\, Villa Sofía\, Carrera 92 # 80C-71\, Medellín\, Colombia
ATTACH;FMTTYPE=image/jpeg:https://www.antiguo.juntosporlainclusion.org/wp-content/uploads/2024/07/WhatsApp-Image-2024-07-08-at-10.26.39-AM.jpeg
END:VEVENT
BEGIN:VEVENT
DTSTART;TZID=America/Bogota:20240625T150000
DTEND;TZID=America/Bogota:20240625T170000
DTSTAMP:20260419T135554
CREATED:20240617T172945Z
LAST-MODIFIED:20240617T172945Z
UID:5419-1719327600-1719334800@www.antiguo.juntosporlainclusion.org
SUMMARY:Charlas que unen: el rol del sector privado en la integración local de personas refugiadas y desplazadas
DESCRIPTION:
URL:https://www.antiguo.juntosporlainclusion.org/eventos/charlas-que-unen-el-rol-del-sector-privado-en-la-integracion-local-de-personas-refugiadas-y-desplazadas/
LOCATION:Biblioteca EPM\, Carrera 54 n.° 44 48\, Medellín\, Colombia
ATTACH;FMTTYPE=image/jpeg:https://www.antiguo.juntosporlainclusion.org/wp-content/uploads/2024/06/Invitacion_Charla.jpeg
END:VEVENT
BEGIN:VEVENT
DTSTART;TZID=America/Bogota:20230921T080000
DTEND;TZID=America/Bogota:20230921T110000
DTSTAMP:20260419T135554
CREATED:20230908T145416Z
LAST-MODIFIED:20230908T151146Z
UID:5068-1695283200-1695294000@www.antiguo.juntosporlainclusion.org
SUMMARY:Segundo encuentro empresarial por la inclusión\, municipio de Guarne
DESCRIPTION:En este espacio conversaremos sobre las buenas prácticas\, beneficios y oportunidades de contratar a poblaciones diversas en las empresas del Oriente antioqueño. \nInscríbete diligenciando este formulario. \n  \n 
URL:https://www.antiguo.juntosporlainclusion.org/eventos/segundo-encuentro-empresarial-por-la-inclusion-municipio-de-guarne/
LOCATION:Recanto Restaurante\, Kilometro 24 Vía Medellín - Bogotá\, Guarne\, Antioquia\, Guarne\, Anitoquia\, Colombia
ATTACH;FMTTYPE=image/jpeg:https://www.antiguo.juntosporlainclusion.org/wp-content/uploads/2023/09/ecard-guarne-01-3-scaled.jpg
END:VEVENT
BEGIN:VEVENT
DTSTART;TZID=America/Bogota:20230918T100000
DTEND;TZID=America/Bogota:20230918T170000
DTSTAMP:20260419T135554
CREATED:20230908T115836Z
LAST-MODIFIED:20230908T144627Z
UID:5060-1695031200-1695056400@www.antiguo.juntosporlainclusion.org
SUMMARY:Jornada de empleo para Flores Isabelita
DESCRIPTION:
URL:https://www.antiguo.juntosporlainclusion.org/eventos/jornada-de-empleo-para-flores-isabelita/
LOCATION:Parque principal El Carmen de Viboral\, Municipio del Carmen de Viboral\, kilómetro 2 carretera San Antonio de Pereira – La Ceja.\, El Carmen de Viboral
ATTACH;FMTTYPE=image/jpeg:https://www.antiguo.juntosporlainclusion.org/wp-content/uploads/2023/09/ecard-jornada-empleo-flores-isabelita-1.jpg
END:VEVENT
BEGIN:VEVENT
DTSTART;TZID=America/Bogota:20230727T083000
DTEND;TZID=America/Bogota:20230727T163000
DTSTAMP:20260419T135554
CREATED:20230719T171849Z
LAST-MODIFIED:20230719T205550Z
UID:4776-1690446600-1690475400@www.antiguo.juntosporlainclusion.org
SUMMARY:Construyendo futuro
DESCRIPTION:Oportundidades laborales para las poblaciones migrantes\, refugiados\, víctimas del conflicto armado\, colombianos retornados y comunidad de acogida.
URL:https://www.antiguo.juntosporlainclusion.org/eventos/construyendo-futuro/
LOCATION:Jardín Botánico\, Cl. 73 #51 D 14\, MEDELLÍN\, Antioquia\, Colombia
ATTACH;FMTTYPE=image/jpeg:https://www.antiguo.juntosporlainclusion.org/wp-content/uploads/2023/07/WhatsApp-Image-2023-07-19-at-11.00.30.jpeg
END:VEVENT
BEGIN:VEVENT
DTSTART;TZID=America/Bogota:20230707T143000
DTEND;TZID=America/Bogota:20230707T160000
DTSTAMP:20260419T135554
CREATED:20230627T220646Z
LAST-MODIFIED:20230719T205647Z
UID:4740-1688740200-1688745600@www.antiguo.juntosporlainclusion.org
SUMMARY:Jornada de capacitación y orientación laboral- Quindío
DESCRIPTION:Inscripciones abiertas hasta el 6 de julio. Puedes inscribirte aquí.
URL:https://www.antiguo.juntosporlainclusion.org/eventos/jornada-de-capacitacion-y-orientacion-laboral-quindio/
LOCATION:Auditorio Agencia Pública de Empleo SENA\, Calle 7 # 18 -21\, Armenia\, Quindío\, Colombia
ATTACH;FMTTYPE=image/jpeg:https://www.antiguo.juntosporlainclusion.org/wp-content/uploads/2023/06/ecard-act-jornada-laboral-scaled.jpg
END:VEVENT
BEGIN:VEVENT
DTSTART;TZID=America/Bogota:20230626T080000
DTEND;TZID=America/Bogota:20230626T110000
DTSTAMP:20260419T135554
CREATED:20230627T031718Z
LAST-MODIFIED:20230719T205750Z
UID:4632-1687766400-1687777200@www.antiguo.juntosporlainclusion.org
SUMMARY:Inclusión para la productividad- Antioquia
DESCRIPTION:
URL:https://www.antiguo.juntosporlainclusion.org/eventos/inclusion-para-la-productividad/
LOCATION:Recinto Quirama\, Municipio del Carmen de Viboral\, kilómetro 2 carretera San Antonio de Pereira – La Ceja.\, El Carmen de Viboral\, Antioquia\, Colombia
ATTACH;FMTTYPE=image/jpeg:https://www.antiguo.juntosporlainclusion.org/wp-content/uploads/2023/06/ecard-invit-oriente-01-scaled.jpeg
END:VEVENT
BEGIN:VEVENT
DTSTART;TZID=America/Bogota:20230623T100000
DTEND;TZID=America/Bogota:20230623T160000
DTSTAMP:20260419T135554
CREATED:20230627T213555Z
LAST-MODIFIED:20230719T205829Z
UID:4731-1687514400-1687536000@www.antiguo.juntosporlainclusion.org
SUMMARY:Feria de servicios para la integración- Risaralda
DESCRIPTION:
URL:https://www.antiguo.juntosporlainclusion.org/eventos/feria-de-servicios-para-la-integracion-pererira/
LOCATION:Institución Educativa Juan XXIII\, Carrera 23 BIS- Calle 73 y Transversal 74\, Pereira\, Risaralda\, Colombia
ATTACH;FMTTYPE=image/jpeg:https://www.antiguo.juntosporlainclusion.org/wp-content/uploads/2023/06/ecard-activ-pereira-scaled.jpeg
END:VEVENT
END:VCALENDAR